BEGIN:VCALENDAR
VERSION:2.0
PRODID:-//CHESS Homeless - ECPv6.13.2.1//NONSGML v1.0//EN
CALSCALE:GREGORIAN
METHOD:PUBLISH
X-WR-CALNAME:CHESS Homeless
X-ORIGINAL-URL:https://chesshomeless.org
X-WR-CALDESC:Events for CHESS Homeless
REFRESH-INTERVAL;VALUE=DURATION:PT1H
X-Robots-Tag:noindex
X-PUBLISHED-TTL:PT1H
BEGIN:VTIMEZONE
TZID:Europe/London
BEGIN:DAYLIGHT
TZOFFSETFROM:+0000
TZOFFSETTO:+0100
TZNAME:BST
DTSTART:20260329T010000
END:DAYLIGHT
BEGIN:STANDARD
TZOFFSETFROM:+0100
TZOFFSETTO:+0000
TZNAME:GMT
DTSTART:20261025T010000
END:STANDARD
END:VTIMEZONE
BEGIN:VEVENT
DTSTART;TZID=Europe/London:20260220T200000
DTEND;TZID=Europe/London:20260221T080000
DTSTAMP:20260419T153114
CREATED:20231212T111213Z
LAST-MODIFIED:20251205T164626Z
UID:996247-1771617600-1771660800@chesshomeless.org
SUMMARY:Big Sleep Out 2026
DESCRIPTION:Our BIG Sleepout will be taking place on 20th February 2026 at Chelmsford Cathedral.\n\nExperience what it is like to sleep rough during the Winter whilst raising much needed funds for our work with homeless adults. You can participate as an individual or come as part of a group and really make a difference.\n  \nRegister now for just £10 per person using the ticket selection below.  Come as you are\, with a group or even as a family (children must be 10 and over and accompanied by a parent/guardian). \nWe will be in touch over the coming weeks with your fundraising pack which tells you what you need to bring and ideas for getting your fundraising started. \n  \n\nPlease enable JavaScript in your browser to complete this form.Please enable JavaScript in your browser to complete this form.Name *FirstLastEmail *How did you hear about the event? (select as many as apply) *Social Media (Facebook/Instagram/LinkedInHave taken part beforeWebsite searchThrough workThrough a friendOtherAre you attending as part of a group?  If so what is the group called?How many people in your group? *Participant(s).  Please list all participants below: *GDPR Agreement *I consent to having this website store my submitted information so they can respond to my inquiry.Have you paid your registration online? *If you are unable to make the payment now you can pay on the door but please ensure you submit your details so we know you are attending.Any comment or message?Submit
URL:https://chesshomeless.org/event/bigsleepout/
LOCATION:Chelmsford Cathedral\, New St\, Chelmsford CM1 1TY\, Chelmsford\, CM1 1TY\, United Kingdom
CATEGORIES:CHESS Homeless
ATTACH;FMTTYPE=image/jpeg:https://chesshomeless.org/wp-content/uploads/2023/12/Sleepout-2026-logo-1600-x-850-px.jpg
END:VEVENT
END:VCALENDAR